BEGIN:VCALENDAR
VERSION:2.0
PRODID:-//mastercam.com - ECPv6.15.20//NONSGML v1.0//EN
CALSCALE:GREGORIAN
METHOD:PUBLISH
X-WR-CALNAME:mastercam.com
X-ORIGINAL-URL:https://www.mastercam.com
X-WR-CALDESC:Events for mastercam.com
REFRESH-INTERVAL;VALUE=DURATION:PT1H
X-Robots-Tag:noindex
X-PUBLISHED-TTL:PT1H
BEGIN:VTIMEZONE
TZID:America/New_York
BEGIN:DAYLIGHT
TZOFFSETFROM:-0500
TZOFFSETTO:-0400
TZNAME:EDT
DTSTART:20250309T070000
END:DAYLIGHT
BEGIN:STANDARD
TZOFFSETFROM:-0400
TZOFFSETTO:-0500
TZNAME:EST
DTSTART:20251102T060000
END:STANDARD
BEGIN:DAYLIGHT
TZOFFSETFROM:-0500
TZOFFSETTO:-0400
TZNAME:EDT
DTSTART:20260308T070000
END:DAYLIGHT
BEGIN:STANDARD
TZOFFSETFROM:-0400
TZOFFSETTO:-0500
TZNAME:EST
DTSTART:20261101T060000
END:STANDARD
BEGIN:DAYLIGHT
TZOFFSETFROM:-0500
TZOFFSETTO:-0400
TZNAME:EDT
DTSTART:20270314T070000
END:DAYLIGHT
BEGIN:STANDARD
TZOFFSETFROM:-0400
TZOFFSETTO:-0500
TZNAME:EST
DTSTART:20271107T060000
END:STANDARD
END:VTIMEZONE
BEGIN:VEVENT
DTSTART;VALUE=DATE:20260420
DTEND;VALUE=DATE:20260425
DTSTAMP:20260421T005753
CREATED:20251208T145458Z
LAST-MODIFIED:20260219T191132Z
UID:10000259-1776643200-1777075199@www.mastercam.com
SUMMARY:MACH 2026 | Booth 20-240
DESCRIPTION:
URL:https://www.mastercam.com/event/mach-2026-booth-20-240/
LOCATION:NEC\, National Exhibition Centre\, Pendigo Way\, Marston Green\, Birmingham\, United Kingdom
CATEGORIES:Tradeshow
ATTACH;FMTTYPE=image/webp:https://www.mastercam.com/wp-content/uploads/2025/12/MACH_2026_Logo_RGB.webp
END:VEVENT
BEGIN:VEVENT
DTSTART;VALUE=DATE:20260421
DTEND;VALUE=DATE:20260422
DTSTAMP:20260421T005753
CREATED:20260303T140332Z
LAST-MODIFIED:20260408T152320Z
UID:10000295-1776729600-1776815999@www.mastercam.com
SUMMARY:State SkillsUSA Alabama
DESCRIPTION:
URL:https://www.mastercam.com/event/state-skillsusa-alabama/
LOCATION:Birmingham Jefferson Convention Complex\, 2100 Richard Arrington Jr Blvd N\, Birmingham\, AL\, 35203\, United States
CATEGORIES:Regional Events
ATTACH;FMTTYPE=image/png:https://www.mastercam.com/wp-content/uploads/2026/03/Grey-pattern-1-1.png
END:VEVENT
BEGIN:VEVENT
DTSTART;VALUE=DATE:20260421
DTEND;VALUE=DATE:20260425
DTSTAMP:20260421T005753
CREATED:20260210T193411Z
LAST-MODIFIED:20260408T152222Z
UID:10000269-1776729600-1777075199@www.mastercam.com
SUMMARY:Hermle Open House 2026
DESCRIPTION:
URL:https://www.mastercam.com/event/hermle-open-house-2026/
LOCATION:Hermle\, Industriestrasse 8-12\, Gosheim\, Germany
CATEGORIES:Regional Events
ATTACH;FMTTYPE=image/jpeg:https://www.mastercam.com/wp-content/uploads/2026/02/hermle-1200x480-1.jpg
END:VEVENT
END:VCALENDAR