BEGIN:VCALENDAR
VERSION:2.0
PRODID:-//mastercam.com - ECPv6.15.20//NONSGML v1.0//EN
CALSCALE:GREGORIAN
METHOD:PUBLISH
X-WR-CALNAME:mastercam.com
X-ORIGINAL-URL:https://www.mastercam.com
X-WR-CALDESC:Events for mastercam.com
REFRESH-INTERVAL;VALUE=DURATION:PT1H
X-Robots-Tag:noindex
X-PUBLISHED-TTL:PT1H
BEGIN:VTIMEZONE
TZID:America/New_York
BEGIN:DAYLIGHT
TZOFFSETFROM:-0500
TZOFFSETTO:-0400
TZNAME:EDT
DTSTART:20240310T070000
END:DAYLIGHT
BEGIN:STANDARD
TZOFFSETFROM:-0400
TZOFFSETTO:-0500
TZNAME:EST
DTSTART:20241103T060000
END:STANDARD
BEGIN:DAYLIGHT
TZOFFSETFROM:-0500
TZOFFSETTO:-0400
TZNAME:EDT
DTSTART:20250309T070000
END:DAYLIGHT
BEGIN:STANDARD
TZOFFSETFROM:-0400
TZOFFSETTO:-0500
TZNAME:EST
DTSTART:20251102T060000
END:STANDARD
BEGIN:DAYLIGHT
TZOFFSETFROM:-0500
TZOFFSETTO:-0400
TZNAME:EDT
DTSTART:20260308T070000
END:DAYLIGHT
BEGIN:STANDARD
TZOFFSETFROM:-0400
TZOFFSETTO:-0500
TZNAME:EST
DTSTART:20261101T060000
END:STANDARD
END:VTIMEZONE
BEGIN:VEVENT
DTSTART;TZID=America/New_York:20250324T083000
DTEND;TZID=America/New_York:20250326T163000
DTSTAMP:20260421T090155
CREATED:20250114T205030Z
LAST-MODIFIED:20250124T183952Z
UID:10000077-1742805000-1743006600@www.mastercam.com
SUMMARY:Mastercam Mill 3D Training
DESCRIPTION:
URL:https://www.mastercam.com/event/mastercam-lathe-training-2/
LOCATION:Mastercam Headquarters\, 671 Old Post Road\, Tolland\, CT\, 06084\, United States
CATEGORIES:Mastercam Mill 3D,Training
END:VEVENT
BEGIN:VEVENT
DTSTART;TZID=America/New_York:20250324T083000
DTEND;TZID=America/New_York:20250327T163000
DTSTAMP:20260421T090155
CREATED:20250123T203016Z
LAST-MODIFIED:20250124T183908Z
UID:10000102-1742805000-1743093000@www.mastercam.com
SUMMARY:Mastercam Mill Essentials Training
DESCRIPTION:
URL:https://www.mastercam.com/event/mastercam-mill-essentials-training-4/
LOCATION:Live Virtual Training\, United States
CATEGORIES:Mastercam Mill Essentials,Training
END:VEVENT
BEGIN:VEVENT
DTSTART;TZID=America/New_York:20250324T083000
DTEND;TZID=America/New_York:20250327T163000
DTSTAMP:20260421T090155
CREATED:20250123T203143Z
LAST-MODIFIED:20250124T183625Z
UID:10000103-1742805000-1743093000@www.mastercam.com
SUMMARY:Mastercam Mill Essentials Training
DESCRIPTION:
URL:https://www.mastercam.com/event/mastercam-mill-essentials-training-5/
LOCATION:Mastercam Butler\, Pennsylvania\, USA\, 132 Evans Road\, Butler\, PA\, 16001\, United States
CATEGORIES:Mastercam Mill Essentials,Training
END:VEVENT
BEGIN:VEVENT
DTSTART;TZID=America/New_York:20250325T090000
DTEND;TZID=America/New_York:20250326T170000
DTSTAMP:20260421T090155
CREATED:20250205T182809Z
LAST-MODIFIED:20250205T182809Z
UID:10000124-1742893200-1743008400@www.mastercam.com
SUMMARY:Mastercam Lathe Training
DESCRIPTION:
URL:https://www.mastercam.com/event/mastercam-lathe-training-14/
LOCATION:Mastercam Findlay\, Ohio\, USA\, 1750 Westfield Drive\, Findlay\, OH\, 45840\, United States
CATEGORIES:Mastercam Lathe,Training
END:VEVENT
BEGIN:VEVENT
DTSTART;TZID=America/New_York:20250325T090000
DTEND;TZID=America/New_York:20250327T160000
DTSTAMP:20260421T090155
CREATED:20250217T200350Z
LAST-MODIFIED:20250217T200350Z
UID:10000128-1742893200-1743091200@www.mastercam.com
SUMMARY:TechDays 2025
DESCRIPTION:
URL:https://www.mastercam.com/event/techdays-2025/
LOCATION:Sandvik Coromant Center\, Mossvägen 10\, Sandviken\, 811 34\, Sweden
CATEGORIES:Tradeshow
END:VEVENT
END:VCALENDAR